BEGIN:VCALENDAR
VERSION:2.0
PRODID:Fort Bend County, TX Calendar Creator
METHOD:PUBLISH
BEGIN:VEVENT
DTSTAMP:20211129T085036
DTSTART:20210909T120000
DTEND:20210909T115900
SUMMARY:Sheriff's Office Civil Service Commission | Regular Meeting
DESCRIPTION:
CLASS:PUBLIC
END:VEVENT
END:VCALENDAR
